BEGIN:VCALENDAR
PRODID:-//eluceo/ical//2.0/EN
VERSION:2.0
CALSCALE:GREGORIAN
BEGIN:VEVENT
UID:57b8e2e8d067f47bf47424e5792af9f9
DTSTAMP:20260423T091741Z
SUMMARY:JFGN 92nd St Oct 2
DESCRIPTION:Jewish Federation of Greater Naples\nCommunity Calendar\nhttps:
 //jewishnaples.org/calendar/jfgn-92nd-st-oct-2-1694110560\n\nMonday\, Octo
 ber 2 Yiddish Cinema: Shtetls\, Fields\, and Skyscrapers\n\nROUNDTABLE\n\n
 Buy tickets: https://jfgn.regfox.com/92nd-street-y
DTSTART;TZID=America/New_York:20231002T150000
DTEND;TZID=America/New_York:20231002T155500
END:VEVENT
END:VCALENDAR
