BEGIN:VCALENDAR
PRODID:-//eluceo/ical//2.0/EN
VERSION:2.0
CALSCALE:GREGORIAN
BEGIN:VEVENT
UID:1086bd8a68855103f1257bfac8a60227
DTSTAMP:20260423T062924Z
SUMMARY:JFGN 92nd St    Oct 12
DESCRIPTION:Jewish Federation of Greater Naples\nCommunity Calendar\nhttps:
 //jewishnaples.org/calendar/jfgn-92nd-st-oct-12\n\nThursday\, October 12\n
 \nStephen Sondheim—Songs That Didn’t Make It To Opening Night:\n\nROUN
 DTABLE\n\nNina Iser Jewish Cultural Center\n\nPurchase tickets here: https
 ://jfgn.regfox.com/92nd-street-y
DTSTART;TZID=America/New_York:20231012T150000
DTEND;TZID=America/New_York:20231012T160000
END:VEVENT
END:VCALENDAR
