BEGIN:VCALENDAR
PRODID:-//eluceo/ical//2.0/EN
VERSION:2.0
CALSCALE:GREGORIAN
BEGIN:VEVENT
UID:b4f2f4a3da7a4fb9d06510d1c4aa63b2
DTSTAMP:20260423T185144Z
SUMMARY:JFGN 92nd St  Oct 16
DESCRIPTION:Jewish Federation of Greater Naples\nCommunity Calendar\nhttps:
 //jewishnaples.org/calendar/jfgn-92nd-st--oct-16-1694110807\n\nMonday\, Oc
 tober 16\n\nPaul Newman: The Extraordinary Life of an Ordinary Man — Cle
 a Newman in Conversation with David Rosenthal\n\nOn-Demand\n\nNina Iser Je
 wish Cultural Center\n\nPurchase tickets here: https://jfgn.regfox.com/92n
 d-street-y
DTSTART;TZID=America/New_York:20231016T150000
DTEND;TZID=America/New_York:20231016T160000
END:VEVENT
END:VCALENDAR
