BEGIN:VCALENDAR
PRODID:-//eluceo/ical//2.0/EN
VERSION:2.0
CALSCALE:GREGORIAN
BEGIN:VEVENT
UID:ebaa956904106f001b2b944641302718
DTSTAMP:20260422T104719Z
SUMMARY:JFGN 3rd Annual Matzah Ball
DESCRIPTION:Jewish Federation of Greater Naples\nCommunity Calendar\nhttps:
 //jewishnaples.org/calendar/jfgn-3rd-annual-matzah-ball\n\nAnnual 55 and u
 nder dance
DTSTART;TZID=America/New_York:20241207T190000
DTEND;TZID=America/New_York:20241207T230000
END:VEVENT
END:VCALENDAR
