BEGIN:VCALENDAR
PRODID:-//eluceo/ical//2.0/EN
VERSION:2.0
CALSCALE:GREGORIAN
BEGIN:VEVENT
UID:01de39dbc3272226ef9ab4cfbfe7a521
DTSTAMP:20260424T092119Z
SUMMARY:JFGN 20 Questions
DESCRIPTION:Jewish Federation of Greater Naples\nCommunity Calendar\nhttps:
 //jewishnaples.org/calendar/jfgn-20-questions-1620404216\n\nJoin us for ga
 me night!
DTSTART;TZID=America/New_York:20210607T190000
DTEND;TZID=America/New_York:20210607T200000
END:VEVENT
END:VCALENDAR
