BEGIN:VCALENDAR
PRODID:-//eluceo/ical//2.0/EN
VERSION:2.0
CALSCALE:GREGORIAN
BEGIN:VEVENT
UID:7be00a1346bed68c9c7490608bfaf0d3
DTSTAMP:20260422T073301Z
SUMMARY:JFGN  World Religions
DESCRIPTION:Jewish Federation of Greater Naples\nCommunity Calendar\nhttps:
 //jewishnaples.org/calendar/jfgn--world-religions-1597707195\n\nJFGN World
  Religions
DTSTART;TZID=America/New_York:20201013T150000
DTEND;TZID=America/New_York:20201013T163000
END:VEVENT
END:VCALENDAR
