BEGIN:VCALENDAR
PRODID:-//eluceo/ical//2.0/EN
VERSION:2.0
CALSCALE:GREGORIAN
BEGIN:VEVENT
UID:da08e89822259376ed8df6d6a2a33ce7
DTSTAMP:20260423T125605Z
SUMMARY:JFGN  The Beauty Queen of Jerusalem Discussion
DESCRIPTION:Jewish Federation of Greater Naples\nCommunity Calendar\nhttps:
 //jewishnaples.org/calendar/jfgn--the-beauty-queen-of-jerusalem-discussion
 -1653663549\n\nThe Beauty Queen of Jerusalem Discussion on Zoom
DTSTART;TZID=America/New_York:20220627T120000
DTEND;TZID=America/New_York:20220627T124500
END:VEVENT
END:VCALENDAR
