BEGIN:VCALENDAR
PRODID:-//eluceo/ical//2.0/EN
VERSION:2.0
CALSCALE:GREGORIAN
BEGIN:VEVENT
UID:055ade4f7c5ad553106f9c4fe0935081
DTSTAMP:20260423T221221Z
SUMMARY:JFGN & MCA Author Book Talk on May 18
DESCRIPTION:Jewish Federation of Greater Naples\nCommunity Calendar\nhttps:
 //jewishnaples.org/calendar/jfgn--mca-author-book-talk-on-may-18-164183318
 8\n\nDoug Zipes\, author of Ari's Spoon
DTSTART;TZID=America/New_York:20220518T130000
DTEND;TZID=America/New_York:20220518T140000
END:VEVENT
END:VCALENDAR
