BEGIN:VCALENDAR
PRODID:-//eluceo/ical//2.0/EN
VERSION:2.0
CALSCALE:GREGORIAN
BEGIN:VEVENT
UID:e6348ff0e95c231bd14609509a066c47
DTSTAMP:20260422T123659Z
SUMMARY:JFGN & MCA & WCA  A Plot Against America Discussion
DESCRIPTION:Jewish Federation of Greater Naples\nCommunity Calendar\nhttps:
 //jewishnaples.org/calendar/jfgn--mca--wca--a-plot-against-america-discuss
 ion-1593197043\n\nJFGN & WCA & MCA brings a program to our community:\nA P
 lot Against America Discussion
DTSTART;TZID=America/New_York:20200805T160000
DTEND;TZID=America/New_York:20200805T170000
END:VEVENT
END:VCALENDAR
