BEGIN:VCALENDAR
PRODID:-//eluceo/ical//2.0/EN
VERSION:2.0
CALSCALE:GREGORIAN
BEGIN:VEVENT
UID:5f1ec45d265e5737ff1f4be05968eda7
DTSTAMP:20260424T111101Z
SUMMARY:JFGN  MCA  IOC  IDF Speaker
DESCRIPTION:Jewish Federation of Greater Naples\nCommunity Calendar\nhttps:
 //jewishnaples.org/calendar/jfgn--mca--ioc--idf-speaker-1695933423\n\nJoin
  us. Please register via weekly eblast
DTSTART;TZID=America/New_York:20231108T160000
DTEND;TZID=America/New_York:20231108T170000
END:VEVENT
END:VCALENDAR
