BEGIN:VCALENDAR
PRODID:-//eluceo/ical//2.0/EN
VERSION:2.0
CALSCALE:GREGORIAN
BEGIN:VEVENT
UID:c55837f89485f376e3bec06ab0aa6967
DTSTAMP:20260423T155421Z
SUMMARY:JFGN & MCA   Author Book Talk on June 13
DESCRIPTION:Jewish Federation of Greater Naples\nCommunity Calendar\nhttps:
 //jewishnaples.org/calendar/jfgn--mca---author-book-talk-on-june-13-164182
 3835\n\nRoy Schwartz is the author of Is Superman Circumcised? The Complet
 e Jewish History of the World’s Greatest Hero and The Darkness in Lee’
 s Closet and the Others Waiting There. Is Superman Circumcised? is the win
 ner of the 2021 international Diagram Prize for Oddest Book Title of the Y
 ear.
DTSTART;TZID=America/New_York:20220613T130000
DTEND;TZID=America/New_York:20220613T140000
END:VEVENT
END:VCALENDAR
