BEGIN:VCALENDAR
PRODID:-//eluceo/ical//2.0/EN
VERSION:2.0
CALSCALE:GREGORIAN
BEGIN:VEVENT
UID:064ff71d908b8a339aab988871a7303e
DTSTAMP:20260421T210246Z
SUMMARY:JFCS Annual Gala
DESCRIPTION:Jewish Federation of Greater Naples\nCommunity Calendar\nhttps:
 //jewishnaples.org/calendar/jfcs-annual-gala\n\nJFCS Annual Gala
DTSTART;TZID=America/New_York:20170114T180000
DTEND;TZID=America/New_York:20170114T200000
END:VEVENT
END:VCALENDAR
