BEGIN:VCALENDAR
PRODID:-//eluceo/ical//2.0/EN
VERSION:2.0
CALSCALE:GREGORIAN
BEGIN:VEVENT
UID:323fd335fcb7d1cf256c2689ef389300
DTSTAMP:20260420T180524Z
SUMMARY:JFCC Major Gift Event
DESCRIPTION:Jewish Federation of Greater Naples\nCommunity Calendar\nhttps:
 //jewishnaples.org/calendar/jfcc-major-gift-event\n\nJFCC Major Gift Event
DTSTART;TZID=America/New_York:20170110T180000
DTEND;TZID=America/New_York:20170110T210000
END:VEVENT
END:VCALENDAR
