BEGIN:VCALENDAR
PRODID:-//eluceo/ical//2.0/EN
VERSION:2.0
CALSCALE:GREGORIAN
BEGIN:VEVENT
UID:abd20c6f9c440d07b6faad4486e9e009
DTSTAMP:20260422T234017Z
SUMMARY:JFCC Klezmer Band Concert
DESCRIPTION:Jewish Federation of Greater Naples\nCommunity Calendar\nhttps:
 //jewishnaples.org/calendar/jfcc-klezmer-band-concert\n\nJFCC Presents: K
 lezmer Band Concert at the South Regional Library\n\nRSVP to the library
DTSTART;TZID=America/New_York:20170118T183000
DTEND;TZID=America/New_York:20170118T203000
END:VEVENT
END:VCALENDAR
