BEGIN:VCALENDAR
PRODID:-//eluceo/ical//2.0/EN
VERSION:2.0
CALSCALE:GREGORIAN
BEGIN:VEVENT
UID:765388d336f122a9d52a0cdfb9c7feb2
DTSTAMP:20260424T042001Z
SUMMARY:JFCC Jewish Community Festival Learning
DESCRIPTION:Jewish Federation of Greater Naples\nCommunity Calendar\nhttps:
 //jewishnaples.org/calendar/jfcc-jewish-community-festival-learning\n\nJCR
 C brings you:\n\nJewish community day of learning at Temple Shalom\n\n 
DTSTART;TZID=America/New_York:20170319T093000
DTEND;TZID=America/New_York:20170319T140000
END:VEVENT
END:VCALENDAR
