BEGIN:VCALENDAR
PRODID:-//eluceo/ical//2.0/EN
VERSION:2.0
CALSCALE:GREGORIAN
BEGIN:VEVENT
UID:d01cc0c6fdc9579550c0c02b62a78b76
DTSTAMP:20260422T165037Z
SUMMARY:JFCC Israel Scouts Caravan
DESCRIPTION:Jewish Federation of Greater Naples\nCommunity Calendar\nhttps:
 //jewishnaples.org/calendar/jfcc-israel-scouts-caravan\n\nEveryone is welc
 ome to attend this free event.
DTSTART;TZID=America/New_York:20160623T190000
DTEND;TZID=America/New_York:20160623T210000
END:VEVENT
END:VCALENDAR
