BEGIN:VCALENDAR
PRODID:-//eluceo/ical//2.0/EN
VERSION:2.0
CALSCALE:GREGORIAN
BEGIN:VEVENT
UID:4ed0933343b936fd585109ff66c73329
DTSTAMP:20260422T095335Z
SUMMARY:JFCC Golf Tournament
DESCRIPTION:Jewish Federation of Greater Naples\nCommunity Calendar\nhttps:
 //jewishnaples.org/calendar/jfcc-golf-tournament\n\nJFCC Golf Tournament\n
 \nTwin Eagle Golf Club
DTSTART;TZID=America/New_York:20161218T080000
DTEND;TZID=America/New_York:20161218T120000
END:VEVENT
END:VCALENDAR
