BEGIN:VCALENDAR
PRODID:-//eluceo/ical//2.0/EN
VERSION:2.0
CALSCALE:GREGORIAN
BEGIN:VEVENT
UID:cae13c0ba5a1741eddcf70a9d8529206
DTSTAMP:20260423T023931Z
SUMMARY:JFCC Executive Board Meeting
DESCRIPTION:Jewish Federation of Greater Naples\nCommunity Calendar\nhttps:
 //jewishnaples.org/calendar/jfcc-executive-board-meeting\n\nJewish Federat
 ion of Collier County\n\nExecutive Board Meeting\n\n1st Tuesday of each mo
 nth\n\n4:00-5:30 pm
DTSTART;TZID=America/New_York:20160607T160000
DTEND;TZID=America/New_York:20160607T160000
END:VEVENT
END:VCALENDAR
