BEGIN:VCALENDAR
PRODID:-//eluceo/ical//2.0/EN
VERSION:2.0
CALSCALE:GREGORIAN
BEGIN:VEVENT
UID:e9bb90935143ec3fc358f84940384d05
DTSTAMP:20260424T083009Z
SUMMARY:JFCC Exec. Mtg
DESCRIPTION:Jewish Federation of Greater Naples\nCommunity Calendar\nhttps:
 //jewishnaples.org/calendar/jfcc-exec-mtg\n\nJFCC Executive Board Meeting
DTSTART;TZID=America/New_York:20161006T160000
DTEND;TZID=America/New_York:20161006T160000
END:VEVENT
END:VCALENDAR
