BEGIN:VCALENDAR
PRODID:-//eluceo/ical//2.0/EN
VERSION:2.0
CALSCALE:GREGORIAN
BEGIN:VEVENT
UID:9cf899d9671060fd5513c17d1c19908b
DTSTAMP:20260423T152449Z
SUMMARY:JFCC Community Wide MLK Jr Parade
DESCRIPTION:Jewish Federation of Greater Naples\nCommunity Calendar\nhttps:
 //jewishnaples.org/calendar/jfcc-community-wide-mlk-jr-parade\n\nJoin us a
 s we walk in MLK Jr. Parade!\n\nPlease let us know you are attending: rbia
 lek@jewishnaples.org\n\nMartin Luther King Jr. Day is Monday\, January 15\
 , 2018.\nPlease come participate in the MLK parade at 10:00 am with the Je
 wish Federation of Collier County. Come hold our banner and walk with us i
 n the parade. It’s fun and great exercise! The parade starts at 11:00 am
  at Broad Avenue S & 3rd St. S\, but we need to meet at 10:00 am for those
  walking in the parade.\nThe celebration at Cam...
DTSTART;TZID=America/New_York:20180115T100000
DTEND;TZID=America/New_York:20180115T150000
END:VEVENT
END:VCALENDAR
