BEGIN:VCALENDAR
PRODID:-//eluceo/ical//2.0/EN
VERSION:2.0
CALSCALE:GREGORIAN
BEGIN:VEVENT
UID:7c79460363e29121cdcdd4c4df7454ef
DTSTAMP:20260421T205103Z
SUMMARY:JFCC Community Needs Assessment
DESCRIPTION:Jewish Federation of Greater Naples\nCommunity Calendar\nhttps:
 //jewishnaples.org/calendar/jfcc-community-needs-assessment\n\nJFCC -Comm
 unity Needs Assessment\n\n 
DTSTART;TZID=America/New_York:20171024T190000
DTEND;TZID=America/New_York:20171024T210000
END:VEVENT
END:VCALENDAR
