BEGIN:VCALENDAR
PRODID:-//eluceo/ical//2.0/EN
VERSION:2.0
CALSCALE:GREGORIAN
BEGIN:VEVENT
UID:526e4b6bae3801bb5bc7326cdc925d74
DTSTAMP:20260423T023606Z
SUMMARY:JFCC Chanukah Event
DESCRIPTION:Jewish Federation of Greater Naples\nCommunity Calendar\nhttps:
 //jewishnaples.org/calendar/jfcc-chanukah-event\n\nCommunity Wide Chanukah
  Event. Free for all!\n\nMercato at the Lawn
DTSTART;TZID=America/New_York:20161226T174500
DTEND;TZID=America/New_York:20161226T190000
END:VEVENT
END:VCALENDAR
