BEGIN:VCALENDAR
PRODID:-//eluceo/ical//2.0/EN
VERSION:2.0
CALSCALE:GREGORIAN
BEGIN:VEVENT
UID:2c2c7b12c30047c3b4ce2b8336664427
DTSTAMP:20260423T042116Z
SUMMARY:JFCC Board Workshop
DESCRIPTION:Jewish Federation of Greater Naples\nCommunity Calendar\nhttps:
 //jewishnaples.org/calendar/jfcc-board-workshop\n\nJFCC Board Workshop
DTSTART;TZID=America/New_York:20161106T100000
DTEND;TZID=America/New_York:20161106T100000
END:VEVENT
END:VCALENDAR
