BEGIN:VCALENDAR
PRODID:-//eluceo/ical//2.0/EN
VERSION:2.0
CALSCALE:GREGORIAN
BEGIN:VEVENT
UID:8901bd99b06a6d4bc24733690207e1a0
DTSTAMP:20260421T192020Z
SUMMARY:JFCC Board meetings
DESCRIPTION:Jewish Federation of Greater Naples\nCommunity Calendar\nhttps:
 //jewishnaples.org/calendar/jfcc-board-meetings\n\nJFCC Board meetings at 
 7:00 pm
DTSTART;TZID=America/New_York:20171116T190000
DTEND;TZID=America/New_York:20171116T210000
END:VEVENT
END:VCALENDAR
