BEGIN:VCALENDAR
PRODID:-//eluceo/ical//2.0/EN
VERSION:2.0
CALSCALE:GREGORIAN
BEGIN:VEVENT
UID:564583be5eb75e0e07552a159e8d4c9e
DTSTAMP:20260422T142003Z
SUMMARY:Jewish Young Professional
DESCRIPTION:Jewish Federation of Greater Naples\nCommunity Calendar\nhttps:
 //jewishnaples.org/calendar/jewish-young-professional-1645715548\n\nMeet a
 nd Greet
DTSTART;TZID=America/New_York:20220324T170000
DTEND;TZID=America/New_York:20220324T200000
END:VEVENT
END:VCALENDAR
