BEGIN:VCALENDAR
PRODID:-//eluceo/ical//2.0/EN
VERSION:2.0
CALSCALE:GREGORIAN
BEGIN:VEVENT
UID:13d9cda253bf86a1a3cf935b7e471143
DTSTAMP:20260422T202139Z
SUMMARY:Jewish War Veterans Post 202
DESCRIPTION:Jewish Federation of Greater Naples\nCommunity Calendar\nhttps:
 //jewishnaples.org/calendar/jewish-war-veterans-post-202\n\n“The Jewish 
 War Veterans of Collier County\, www.JWVPost202.wordpress.com \, meets e
 very 3rd Thursday\, 12noon\, at Perkins (Pine Ridge Rd.)”
DTSTART;TZID=America/New_York:20180517T120000
DTEND;TZID=America/New_York:20180517T140000
END:VEVENT
END:VCALENDAR
