BEGIN:VCALENDAR
PRODID:-//eluceo/ical//2.0/EN
VERSION:2.0
CALSCALE:GREGORIAN
BEGIN:VEVENT
UID:9f72153c2a731f48395993cb35000c58
DTSTAMP:20260419T235615Z
SUMMARY:Jewish United Fund..Chicago
DESCRIPTION:Jewish Federation of Greater Naples\nCommunity Calendar\nhttps:
 //jewishnaples.org/calendar/jewish-united-fundchicago\n\nFederation of Chi
 cago is having an event here in Naples\n\nJewish United Fund/Jewish Federa
 tion of Metropolitan Chicago is hosting a social meeting here in Naples.\n
 \n 
DTSTART;TZID=America/New_York:20190207T190000
DTEND;TZID=America/New_York:20190207T210000
END:VEVENT
END:VCALENDAR
