BEGIN:VCALENDAR
PRODID:-//eluceo/ical//2.0/EN
VERSION:2.0
CALSCALE:GREGORIAN
BEGIN:VEVENT
UID:6fe25693096244caba96293c0a5a496b
DTSTAMP:20260421T000639Z
SUMMARY:Jewish Singles 40-50's
DESCRIPTION:Jewish Federation of Greater Naples\nCommunity Calendar\nhttps:
 //jewishnaples.org/calendar/jewish-singles-40-50s-1708459532\n\nDoc at Cra
 yton Cove\n\n845 12th St. South\n\n7:00 PM\n\nPay for what you order.\n\nD
 ockcraytoncove.com/menus/\n\nRegister with Michelle so she can greet you u
 pon arrival.
DTSTART;TZID=America/New_York:20240504T190000
DTEND;TZID=America/New_York:20240504T210000
END:VEVENT
END:VCALENDAR
