BEGIN:VCALENDAR
PRODID:-//eluceo/ical//2.0/EN
VERSION:2.0
CALSCALE:GREGORIAN
BEGIN:VEVENT
UID:1004798342f734415703ab411f56503f
DTSTAMP:20260422T085909Z
SUMMARY:Jewish Professionals Event
DESCRIPTION:Jewish Federation of Greater Naples\nCommunity Calendar\nhttps:
 //jewishnaples.org/calendar/jewish-professionals-event-3\n\nJewish Profess
 ionals are having an event!
DTSTART;TZID=America/New_York:20180205T190000
DTEND;TZID=America/New_York:20180205T200000
END:VEVENT
END:VCALENDAR
