BEGIN:VCALENDAR
PRODID:-//eluceo/ical//2.0/EN
VERSION:2.0
CALSCALE:GREGORIAN
BEGIN:VEVENT
UID:07ad51f50e56022c43edb63085d45c78
DTSTAMP:20260423T003546Z
SUMMARY:Jewish Professionals DInner
DESCRIPTION:Jewish Federation of Greater Naples\nCommunity Calendar\nhttps:
 //jewishnaples.org/calendar/jewish-professionals-dinner\n\nJewish Professi
 onals will meet for dinner.\n\nhttps://jewishnaples.org/get-involved/jewis
 h-professional\n\n 
DTSTART;TZID=America/New_York:20161208T170000
DTEND;TZID=America/New_York:20161208T183000
END:VEVENT
END:VCALENDAR
