BEGIN:VCALENDAR
PRODID:-//eluceo/ical//2.0/EN
VERSION:2.0
CALSCALE:GREGORIAN
BEGIN:VEVENT
UID:8b4d3d57afd5c85143d52efeb5d25a88
DTSTAMP:20260420T144648Z
SUMMARY:Jewish Professionals
DESCRIPTION:Jewish Federation of Greater Naples\nCommunity Calendar\nhttps:
 //jewishnaples.org/calendar/jewish-professionals-1\n\nJewish Professionals
  will have an event.
DTSTART;TZID=America/New_York:20171113T190000
DTEND;TZID=America/New_York:20171113T200000
END:VEVENT
END:VCALENDAR
