BEGIN:VCALENDAR
PRODID:-//eluceo/ical//2.0/EN
VERSION:2.0
CALSCALE:GREGORIAN
BEGIN:VEVENT
UID:147fa97647414c6d30797c7d60e96016
DTSTAMP:20260420T022822Z
SUMMARY:JEWISH NATIONAL FUND-USA GREATER NAPLES BREAKFAST FOR ISRAEL
DESCRIPTION:Jewish Federation of Greater Naples\nCommunity Calendar\nhttps:
 //jewishnaples.org/calendar/jewish-national-fund-usa-greater-naples-breakf
 ast-for-israel-1667329040\n\nTBD
DTSTART;TZID=America/New_York:20230215T100000
DTEND;TZID=America/New_York:20230215T110000
END:VEVENT
END:VCALENDAR
