BEGIN:VCALENDAR
PRODID:-//eluceo/ical//2.0/EN
VERSION:2.0
CALSCALE:GREGORIAN
BEGIN:VEVENT
UID:39fe286e5bd65bf0652d9899afde7bc9
DTSTAMP:20260421T193439Z
SUMMARY:Jewish National Fund Tree of Life Award Dinner
DESCRIPTION:Jewish Federation of Greater Naples\nCommunity Calendar\nhttps:
 //jewishnaples.org/calendar/jewish-national-fund-tree-of-life-award-dinner
 -1532458956\n\nJewish National Fund's Tree of Life Award Dinner will be he
 ld on February 4th 2019.
DTSTART;TZID=America/New_York:20190204T180000
DTEND;TZID=America/New_York:20190204T210000
END:VEVENT
END:VCALENDAR
