BEGIN:VCALENDAR
PRODID:-//eluceo/ical//2.0/EN
VERSION:2.0
CALSCALE:GREGORIAN
BEGIN:VEVENT
UID:c8874ec94672fa19fae515d00ae51229
DTSTAMP:20260421T202419Z
SUMMARY:Jewish National Fund Special in Uniform
DESCRIPTION:Jewish Federation of Greater Naples\nCommunity Calendar\nhttps:
 //jewishnaples.org/calendar/jewish-national-fund-special-in-uniform-175648
 0802\n\nJNF and JFGN are co-hosting Special in Uniform\, a highly trained 
 squad of elite soldiers that’s entirely made up of disabled and autistic
  teens. Special in Uniform is a Jewish National Fund-USA program that inte
 grates young adults with disabilities into the Israel Defense Forces (IDF)
  and\, in turn\, into Israeli society.\n\nSIU band will perform a concert\
 , with remarks from local supporters.
DTSTART;TZID=America/New_York:20251028T190000
DTEND;TZID=America/New_York:20251028T200000
END:VEVENT
END:VCALENDAR
