BEGIN:VCALENDAR
PRODID:-//eluceo/ical//2.0/EN
VERSION:2.0
CALSCALE:GREGORIAN
BEGIN:VEVENT
UID:4e029b4dcbcd453cfa1c7cb964db17cf
DTSTAMP:20260422T073815Z
SUMMARY:Jewish National Fund - USA
DESCRIPTION:Jewish Federation of Greater Naples\nCommunity Calendar\nhttps:
 //jewishnaples.org/calendar/jewish-national-fund---usa-1763490430\n\nJoin 
 Jewish National Fund-USA for a powerful morning at our annual Naples Break
 fast for Israel. Together\, we’ll celebrate our extraordinary work rebui
 lding and reimagining a stronger Israel. Hear how lives are being transfor
 med—and how you are helping turn vision into reality. Now more than ever
 \, your support makes all the difference. A gift of $360 or more to the cu
 rrent campaign is required to attend.\n\nFor more information\, contact Jo
 shua Mellits: jmellits@jnf.org or 941.462.1330 x865
DTSTART;TZID=America/New_York:20260317T091500
DTEND;TZID=America/New_York:20260317T110000
END:VEVENT
END:VCALENDAR
