BEGIN:VCALENDAR
PRODID:-//eluceo/ical//2.0/EN
VERSION:2.0
CALSCALE:GREGORIAN
BEGIN:VEVENT
UID:316a7e926b585f787f06666303fd09ea
DTSTAMP:20260422T160500Z
SUMMARY:Jewish Identity\, Race\, & Antisemitism in US Pop Culture
DESCRIPTION:Jewish Federation of Greater Naples\nCommunity Calendar\nhttps:
 //jewishnaples.org/calendar/jewish-identity-race-antisemitism-in-us-pop-cu
 lture\n\nRegister for this free Zoom program.\n\n \n\nJewish Identity\, R
 ace\, & Antisemitism in US Pop Culture\n\n \n\nCome learn how popular cul
 ture can help us to challenge antisemitism. For this talk\, Jonathan Branf
 man will draw from his new book\, Millennial Jewish Stars: Navigating Raci
 al Antisemitism\, Masculinity\, and White Supremacy (New York University 
 Press\, 2024). The book uses examples from film\, television\, and digital
  media to clarify how antisemitism works in real life\, and especially h..
 .
DTSTART;TZID=America/New_York:20241022T150000
DTEND;TZID=America/New_York:20241022T160000
END:VEVENT
END:VCALENDAR
