BEGIN:VCALENDAR
PRODID:-//eluceo/ical//2.0/EN
VERSION:2.0
CALSCALE:GREGORIAN
BEGIN:VEVENT
UID:282defd33974594b044c9182762d6718
DTSTAMP:20260419T232227Z
SUMMARY:Jewish Historical Society of Southwest Florida
DESCRIPTION:Jewish Federation of Greater Naples\nCommunity Calendar\nhttps:
 //jewishnaples.org/calendar/jewish-historical-society-of-southwest-florida
 -1633370600\n\nJewish Historical Society of Southwest Florida
DTSTART;TZID=America/New_York:20211110T120000
DTEND;TZID=America/New_York:20211110T130000
END:VEVENT
END:VCALENDAR
