BEGIN:VCALENDAR
PRODID:-//eluceo/ical//2.0/EN
VERSION:2.0
CALSCALE:GREGORIAN
BEGIN:VEVENT
UID:3cbe63af3c4dc10b1855ce55fb5741c6
DTSTAMP:20260420T022849Z
SUMMARY:Jewish Hist. Society of SWFL
DESCRIPTION:Jewish Federation of Greater Naples\nCommunity Calendar\nhttps:
 //jewishnaples.org/calendar/jewish-hist-society-of-swfl-1674843596\n\nMarc
 h Film
DTSTART;TZID=America/New_York:20230321T150000
DTEND;TZID=America/New_York:20230321T163000
END:VEVENT
END:VCALENDAR
