BEGIN:VCALENDAR
PRODID:-//eluceo/ical//2.0/EN
VERSION:2.0
CALSCALE:GREGORIAN
BEGIN:VEVENT
UID:dc74290491fc0d41a52282a6d1005954
DTSTAMP:20260422T134753Z
SUMMARY:Jewish Community Day of Learning\, JCRC
DESCRIPTION:Jewish Federation of Greater Naples\nCommunity Calendar\nhttps:
 //jewishnaples.org/calendar/jewish-community-day-of-learning-jcrc\n\nJFGN-
 \n\nJCRC\n\nJewish Community Day of Learning\n\n 
DTSTART;TZID=America/New_York:20190120T100000
DTEND;TZID=America/New_York:20190120T140000
END:VEVENT
END:VCALENDAR
