BEGIN:VCALENDAR
PRODID:-//eluceo/ical//2.0/EN
VERSION:2.0
CALSCALE:GREGORIAN
BEGIN:VEVENT
UID:07e660f0ec5b3f49b5507649d16e5207
DTSTAMP:20260421T192523Z
SUMMARY:Jewish Community Day of Learning
DESCRIPTION:Jewish Federation of Greater Naples\nCommunity Calendar\nhttps:
 //jewishnaples.org/calendar/jewish-community-day-of-learning\n\nIn 2019\, 
 there were almost 1\,900 reported anti-Semitic incidents\n\nin the United 
 States. Why? What can we do?\n\n \n\nSAVE THE DATE! \n\n \n\nJewish Comm
 unity Relations Council\n\nAnnual Jewish Community Day of Learning \n\n 
 \n\n \n\nConfronting Anti-Semitism — Overcoming Hate\n\nNationally accl
 aimed speakers will be our mentors.\n\n \n\nSunday\, January 19\, 2020\n\
 n9:00 a.m. to 2:00 p.m.\n\n \n\nRegistration available soon.
DTSTART;TZID=America/New_York:20200119T090000
DTEND;TZID=America/New_York:20200119T140000
END:VEVENT
END:VCALENDAR
