BEGIN:VCALENDAR
PRODID:-//eluceo/ical//2.0/EN
VERSION:2.0
CALSCALE:GREGORIAN
BEGIN:VEVENT
UID:cb4626ae8198612e829043a0913e79f0
DTSTAMP:20260421T061644Z
SUMMARY:Jewish Book Festival Preview Event
DESCRIPTION:Jewish Federation of Greater Naples\nCommunity Calendar\nhttps:
 //jewishnaples.org/calendar/jewish-book-festival-preview-event-1564146064\
 n\nJewish Book Festival Sneak Preview\, Wed.\, Aug. 14 at 10 AM\n\n5th Ann
 ual Greater Naples Jewish Book Festival\nSneak Preview Event\n\nBe the fir
 st to learn about the authors\, books\, dates\, ticket packages and more.\
 nSeveral of the festival books will be on sale at discounted prices.\nYou 
 can also order your tickets immediately after the event.\n\nTo be placed o
 n the waiting list:\nPlease email Renee’ at rbialek@jewishnaples.org.
DTSTART;TZID=America/New_York:20190814T100000
DTEND;TZID=America/New_York:20190814T113000
END:VEVENT
END:VCALENDAR
