BEGIN:VCALENDAR
PRODID:-//eluceo/ical//2.0/EN
VERSION:2.0
CALSCALE:GREGORIAN
BEGIN:VEVENT
UID:97ded43e7ab04e50f091c522fdc153e0
DTSTAMP:20260422T013523Z
SUMMARY:Jewish Book Festival Jonathan Freedland
DESCRIPTION:Jewish Federation of Greater Naples\nCommunity Calendar\nhttps:
 //jewishnaples.org/calendar/jewish-book-festival-jonathan-freedland\n\nJew
 ish Book Festival\n\nLunch begins at Noon\n\nAuthor Talk begins at 12:30 P
 M
DTSTART;TZID=America/New_York:20240307T120000
DTEND;TZID=America/New_York:20240307T133000
END:VEVENT
END:VCALENDAR
