BEGIN:VCALENDAR
PRODID:-//eluceo/ical//2.0/EN
VERSION:2.0
CALSCALE:GREGORIAN
BEGIN:VEVENT
UID:d670c6e615b7fbcc52829f9016e8caec
DTSTAMP:20260420T104446Z
SUMMARY:Jewish Book Festival Feb 12
DESCRIPTION:Jewish Federation of Greater Naples\nCommunity Calendar\nhttps:
 //jewishnaples.org/calendar/jewish-book-festival-feb-12-1681915831\n\nJewi
 sh Book Festival
DTSTART;TZID=America/New_York:20240212T133000
DTEND;TZID=America/New_York:20240212T143000
END:VEVENT
END:VCALENDAR
