BEGIN:VCALENDAR
PRODID:-//eluceo/ical//2.0/EN
VERSION:2.0
CALSCALE:GREGORIAN
BEGIN:VEVENT
UID:32363173010315293f3ec40d759eeffb
DTSTAMP:20260420T022812Z
SUMMARY:Jewish Book Festival Feb 1
DESCRIPTION:Jewish Federation of Greater Naples\nCommunity Calendar\nhttps:
 //jewishnaples.org/calendar/jewish-book-festival-feb-1-1681915661\n\nJewis
 h Book Festival
DTSTART;TZID=America/New_York:20240201T130000
DTEND;TZID=America/New_York:20240201T140000
END:VEVENT
END:VCALENDAR
