BEGIN:VCALENDAR
PRODID:-//eluceo/ical//2.0/EN
VERSION:2.0
CALSCALE:GREGORIAN
BEGIN:VEVENT
UID:f63a0ddd22d3de9913f8a5fb05449848
DTSTAMP:20260422T230151Z
SUMMARY:Jewish Book Festival at 3:30
DESCRIPTION:Jewish Federation of Greater Naples\nCommunity Calendar\nhttps:
 //jewishnaples.org/calendar/jewish-book-festival-at-330\n\nJewish Book Fes
 tival
DTSTART;TZID=America/New_York:20240123T153000
DTEND;TZID=America/New_York:20240123T163000
END:VEVENT
END:VCALENDAR
