BEGIN:VCALENDAR
PRODID:-//eluceo/ical//2.0/EN
VERSION:2.0
CALSCALE:GREGORIAN
BEGIN:VEVENT
UID:87dbb428be69422fe44ea56ac49bd447
DTSTAMP:20260420T103924Z
SUMMARY:Jewish Book Festival
DESCRIPTION:Jewish Federation of Greater Naples\nCommunity Calendar\nhttps:
 //jewishnaples.org/calendar/jewish-book-festival-9\n\nJewish Book Festival
 \n\n \n\nClick here for more details.
DTSTART;TZID=America/New_York:20180316T130000
DTEND;TZID=America/New_York:20180316T150000
END:VEVENT
END:VCALENDAR
