BEGIN:VCALENDAR
PRODID:-//eluceo/ical//2.0/EN
VERSION:2.0
CALSCALE:GREGORIAN
BEGIN:VEVENT
UID:dd931ba7f36af288a55ebb21dec4d4af
DTSTAMP:20260420T230007Z
SUMMARY:Jewish Book Festival
DESCRIPTION:Jewish Federation of Greater Naples\nCommunity Calendar\nhttps:
 //jewishnaples.org/calendar/jewish-book-festival-7\n\nJewish Book Festival
 \n\nClick here for more details.
DTSTART;TZID=America/New_York:20180226T130000
DTEND;TZID=America/New_York:20180226T153000
END:VEVENT
END:VCALENDAR
