BEGIN:VCALENDAR
PRODID:-//eluceo/ical//2.0/EN
VERSION:2.0
CALSCALE:GREGORIAN
BEGIN:VEVENT
UID:980ad18ecb1492a0c567f6840ea395f2
DTSTAMP:20260420T225957Z
SUMMARY:Jewish Book Festival
DESCRIPTION:Jewish Federation of Greater Naples\nCommunity Calendar\nhttps:
 //jewishnaples.org/calendar/jewish-book-festival-5\n\nJewish Book Festival
 \n\nClick here for more details.
DTSTART;TZID=America/New_York:20180129T130000
DTEND;TZID=America/New_York:20180129T153000
END:VEVENT
END:VCALENDAR
