BEGIN:VCALENDAR
PRODID:-//eluceo/ical//2.0/EN
VERSION:2.0
CALSCALE:GREGORIAN
BEGIN:VEVENT
UID:39421781cb40c49bd794ddc431556af6
DTSTAMP:20260420T104132Z
SUMMARY:Jewish Book Festival
DESCRIPTION:Jewish Federation of Greater Naples\nCommunity Calendar\nhttps:
 //jewishnaples.org/calendar/jewish-book-festival-33\n\nJewish Book Festiva
 l\n\n 
DTSTART;TZID=America/New_York:20190306T093000
DTEND;TZID=America/New_York:20190306T163000
END:VEVENT
END:VCALENDAR
