BEGIN:VCALENDAR
PRODID:-//eluceo/ical//2.0/EN
VERSION:2.0
CALSCALE:GREGORIAN
BEGIN:VEVENT
UID:930f0163ad11511bba139f8dd99a27a6
DTSTAMP:20260423T161004Z
SUMMARY:Jewish Book Festival
DESCRIPTION:Jewish Federation of Greater Naples\nCommunity Calendar\nhttps:
 //jewishnaples.org/calendar/jewish-book-festival-31\n\nJewish Book Festiva
 l
DTSTART;TZID=America/New_York:20190131T190000
DTEND;TZID=America/New_York:20190131T213000
END:VEVENT
END:VCALENDAR
